BEGIN:VCALENDAR
VERSION:2.0
PRODID:-//- Rare Action Network® - ECPv6.15.17.1//NONSGML v1.0//EN
CALSCALE:GREGORIAN
METHOD:PUBLISH
X-WR-CALNAME:- Rare Action Network®
X-ORIGINAL-URL:https://rareaction.org
X-WR-CALDESC:Events for - Rare Action Network®
REFRESH-INTERVAL;VALUE=DURATION:PT1H
X-Robots-Tag:noindex
X-PUBLISHED-TTL:PT1H
BEGIN:VTIMEZONE
TZID:UTC
BEGIN:STANDARD
TZOFFSETFROM:+0000
TZOFFSETTO:+0000
TZNAME:UTC
DTSTART:20250101T000000
END:STANDARD
END:VTIMEZONE
BEGIN:VEVENT
DTSTART;TZID=UTC:20260603T100000
DTEND;TZID=UTC:20260603T160000
DTSTAMP:20260422T141233
CREATED:20260421T151044Z
LAST-MODIFIED:20260421T151044Z
UID:10000055-1780480800-1780502400@rareaction.org
SUMMARY:Rare Disease Symposium
DESCRIPTION:Join the A.J. Anderson Foundation and the Florida Institute for Pediatric Rare Diseases for two days of connection\, research\, and hope in support of children and families affected by rare diseases.
URL:https://rareaction.org/event/rare-disease-symposium/
LOCATION:Innisbrook Resort\, 36750 US Highway 19 North\, Palm Harbor\, FL\, 34684\, United States
ATTACH;FMTTYPE=image/jpeg:https://rareaction.org/wp-content/uploads/2026/04/2026-FSU-AJ-Anderson-Foudation-Event-Graphic.jpg
END:VEVENT
END:VCALENDAR